BEGIN:VCALENDAR
VERSION:2.0
PRODID:Events Booking
BEGIN:VEVENT
UID:69e9eff875c64
SUMMARY:Asilomar Leadership Reset
DESCRIPTION:Designed for special education leaders and school administrator
 s navigating complexity\, constant decisions\, and system pressure.
 This
  small-cohort experience creates the space to think clearly\, reflect\, an
 d examine your system with fresh eyes. You'll leave feeling grounded and c
 lear about next steps.&nbsp\;
 
 Hotel\, breakfast\, and lunch are inclu
 ded in the price
 Free graduate credit to support your continued professi
 onal growth
 Highly personalized\, hands-on learning that meets you where
  you are
 Sessions are grounded in nationally recognized\, evidence-based
  resources\, including materials from The IRIS Center* and CASEL
 Unlimit
 ed access to a custom-built AI Chatbot\, filled with evidence-based resour
 ces to guide and enhance your daily practice
 
 View details to read abo
 ut everything that’s included.&nbsp\;
LOCATION:800 Asilomar Avenue\, Pacific Grove\, CA 93950
DTSTART:20260916T040000Z
DTEND:20260918T040000Z
DTSTAMP:20260423T005644Z
ORGANIZER;CN=Bob Barrows:MAILTO:bbonsped@gmail.com
GEO:36.61983;-121.9384
X-APPLE-STRUCTURED-LOCATION;VALUE=URI;X-ADDRESS=800 Asilomar Avenue\, Pacif
 ic Grove\, CA 93950;X-APPLE-RADIUS=72;X-TITLE=Asilomar Conference Grounds\
 , Pacific Grove\, California :36.61983;-121.9384
END:VEVENT
END:VCALENDAR